BEGIN:VCALENDAR
VERSION:2.0
PRODID:-//Formations UBF - ECPv6.15.20//NONSGML v1.0//EN
CALSCALE:GREGORIAN
METHOD:PUBLISH
X-WR-CALNAME:Formations UBF
X-ORIGINAL-URL:https://formationsubf.coop
X-WR-CALDESC:Évènements pour Formations UBF
REFRESH-INTERVAL;VALUE=DURATION:PT1H
X-Robots-Tag:noindex
X-PUBLISHED-TTL:PT1H
BEGIN:VTIMEZONE
TZID:America/Toronto
BEGIN:DAYLIGHT
TZOFFSETFROM:-0500
TZOFFSETTO:-0400
TZNAME:EDT
DTSTART:20220313T070000
END:DAYLIGHT
BEGIN:STANDARD
TZOFFSETFROM:-0400
TZOFFSETTO:-0500
TZNAME:EST
DTSTART:20221106T060000
END:STANDARD
BEGIN:DAYLIGHT
TZOFFSETFROM:-0500
TZOFFSETTO:-0400
TZNAME:EDT
DTSTART:20230312T070000
END:DAYLIGHT
BEGIN:STANDARD
TZOFFSETFROM:-0400
TZOFFSETTO:-0500
TZNAME:EST
DTSTART:20231105T060000
END:STANDARD
BEGIN:DAYLIGHT
TZOFFSETFROM:-0500
TZOFFSETTO:-0400
TZNAME:EDT
DTSTART:20240310T070000
END:DAYLIGHT
BEGIN:STANDARD
TZOFFSETFROM:-0400
TZOFFSETTO:-0500
TZNAME:EST
DTSTART:20241103T060000
END:STANDARD
END:VTIMEZONE
BEGIN:VEVENT
DTSTART;TZID=America/Toronto:20231216T080000
DTEND;TZID=America/Toronto:20231216T163000
DTSTAMP:20260420T104620
CREATED:20230704T140859Z
LAST-MODIFIED:20230704T140859Z
UID:12560-1702713600-1702744200@formationsubf.coop
SUMMARY:Premiers soins et RCR 8h
DESCRIPTION:
URL:https://formationsubf.coop/formation/premiers-soins-et-rcr-8h-3/
LOCATION:Formations UBF – Victoriaville\, 795 rue de l'Artisan\, Victoriaville\, Québec\, G6T 1V3\, Canada
CATEGORIES:Premiers soins,RCR
ORGANIZER;CN="Urgence Bois-Francs Inc.":MAILTO:formations@ubf.coop
END:VEVENT
END:VCALENDAR